BEGIN:VCALENDAR
VERSION:2.0
PRODID:-//Visit Brookings - ECPv6.15.17.1//NONSGML v1.0//EN
CALSCALE:GREGORIAN
METHOD:PUBLISH
X-WR-CALNAME:Visit Brookings
X-ORIGINAL-URL:https://visitbrookingssd.com
X-WR-CALDESC:Events for Visit Brookings
REFRESH-INTERVAL;VALUE=DURATION:PT1H
X-Robots-Tag:noindex
X-PUBLISHED-TTL:PT1H
BEGIN:VTIMEZONE
TZID:America/Chicago
BEGIN:DAYLIGHT
TZOFFSETFROM:-0600
TZOFFSETTO:-0500
TZNAME:CDT
DTSTART:20250309T080000
END:DAYLIGHT
BEGIN:STANDARD
TZOFFSETFROM:-0500
TZOFFSETTO:-0600
TZNAME:CST
DTSTART:20251102T070000
END:STANDARD
BEGIN:DAYLIGHT
TZOFFSETFROM:-0600
TZOFFSETTO:-0500
TZNAME:CDT
DTSTART:20260308T080000
END:DAYLIGHT
BEGIN:STANDARD
TZOFFSETFROM:-0500
TZOFFSETTO:-0600
TZNAME:CST
DTSTART:20261101T070000
END:STANDARD
BEGIN:DAYLIGHT
TZOFFSETFROM:-0600
TZOFFSETTO:-0500
TZNAME:CDT
DTSTART:20270314T080000
END:DAYLIGHT
BEGIN:STANDARD
TZOFFSETFROM:-0500
TZOFFSETTO:-0600
TZNAME:CST
DTSTART:20271107T070000
END:STANDARD
END:VTIMEZONE
BEGIN:VEVENT
DTSTART;VALUE=DATE:20260420
DTEND;VALUE=DATE:20260421
DTSTAMP:20260420T023716
CREATED:20260311T145511Z
LAST-MODIFIED:20260311T145738Z
UID:10018839-1776643200-1776729599@visitbrookingssd.com
SUMMARY:State FFA Convention
DESCRIPTION:The South Dakota State FFA Convention is a premier annual event for FFA members\, featuring leadership workshops\, career development events (CDEs)\, and the recognition of student accomplishments in agriculture. Held in Brookings\, it serves as a “state championship” where over 2\,000 members participate in contests ranging from veterinary science to livestock evaluation\, award degrees\, and engage with industry leaders. \n 
URL:https://visitbrookingssd.com/event/state-ffa-convention-2/2026-04-20/
LOCATION:SDSU Campus
CATEGORIES:Educational,University
ATTACH;FMTTYPE=image/webp:https://visitbrookingssd.com/wp-content/uploads/2023/03/South-Dakota-FFA-Association_RGB.webp
ORGANIZER;CN="South Dakota FFA Association":MAILTO:wyatt.dejong@sdaged.org
END:VEVENT
END:VCALENDAR