BEGIN:VCALENDAR
VERSION:2.0
PRODID:-//Visit Brookings - ECPv6.15.17.1//NONSGML v1.0//EN
CALSCALE:GREGORIAN
METHOD:PUBLISH
X-WR-CALNAME:Visit Brookings
X-ORIGINAL-URL:https://visitbrookingssd.com
X-WR-CALDESC:Events for Visit Brookings
REFRESH-INTERVAL;VALUE=DURATION:PT1H
X-Robots-Tag:noindex
X-PUBLISHED-TTL:PT1H
BEGIN:VTIMEZONE
TZID:America/Chicago
BEGIN:DAYLIGHT
TZOFFSETFROM:-0600
TZOFFSETTO:-0500
TZNAME:CDT
DTSTART:20250309T080000
END:DAYLIGHT
BEGIN:STANDARD
TZOFFSETFROM:-0500
TZOFFSETTO:-0600
TZNAME:CST
DTSTART:20251102T070000
END:STANDARD
BEGIN:DAYLIGHT
TZOFFSETFROM:-0600
TZOFFSETTO:-0500
TZNAME:CDT
DTSTART:20260308T080000
END:DAYLIGHT
BEGIN:STANDARD
TZOFFSETFROM:-0500
TZOFFSETTO:-0600
TZNAME:CST
DTSTART:20261101T070000
END:STANDARD
BEGIN:DAYLIGHT
TZOFFSETFROM:-0600
TZOFFSETTO:-0500
TZNAME:CDT
DTSTART:20270314T080000
END:DAYLIGHT
BEGIN:STANDARD
TZOFFSETFROM:-0500
TZOFFSETTO:-0600
TZNAME:CST
DTSTART:20271107T070000
END:STANDARD
END:VTIMEZONE
BEGIN:VEVENT
DTSTART;VALUE=DATE:20260422
DTEND;VALUE=DATE:20260423
DTSTAMP:20260422T013435
CREATED:20260311T145511Z
LAST-MODIFIED:20260311T145738Z
UID:10018841-1776816000-1776902399@visitbrookingssd.com
SUMMARY:State FFA Convention
DESCRIPTION:The South Dakota State FFA Convention is a premier annual event for FFA members\, featuring leadership workshops\, career development events (CDEs)\, and the recognition of student accomplishments in agriculture. Held in Brookings\, it serves as a “state championship” where over 2\,000 members participate in contests ranging from veterinary science to livestock evaluation\, award degrees\, and engage with industry leaders. \n 
URL:https://visitbrookingssd.com/event/state-ffa-convention-2/2026-04-22/
LOCATION:SDSU Campus
CATEGORIES:Educational,University
ATTACH;FMTTYPE=image/webp:https://visitbrookingssd.com/wp-content/uploads/2023/03/South-Dakota-FFA-Association_RGB.webp
ORGANIZER;CN="South Dakota FFA Association":MAILTO:wyatt.dejong@sdaged.org
END:VEVENT
BEGIN:VEVENT
DTSTART;TZID=America/Chicago:20260422T081500
DTEND;TZID=America/Chicago:20260422T113000
DTSTAMP:20260422T013435
CREATED:20260304T203229Z
LAST-MODIFIED:20260304T204015Z
UID:10018802-1776845700-1776857400@visitbrookingssd.com
SUMMARY:Brookings Tourism Ambassador Certification
DESCRIPTION:Turn Every Customer Encounter into a Positive Experience… Every Single Time\nBecome a Certified Brookings Tourism Ambassador! \nIn a town as vibrant as ours\, every person behind a counter\, desk\, or podium is a face of Brookings. Whether you’re a seasoned manager or new to the front line\, the Brookings Tourism Ambassador training empowers you to be a true champion of our community. \nHave you ever been asked: \n\n\n“What’s there to do around here?” \n\n\n“Where is a great place to eat?” \n\n\n“How do I get to the Nature Park from here?” \n\n\nThis engaging certification program gives you the confidence to answer those questions like a pro. We’ll dive into the power of tourism in our local economy\, master the art of exceptional customer service\, and explore the community resources available to make every visitor feel at home. \nBy the end of this session\, you won’t just be providing service—you’ll be creating experiences that keep guests coming back to Brookings. \nReady to lead the way? Register at: VisitBrookingsSD.com \nAfter April 8\, Contact Laura at 605-696-7555 to check on availability. 
URL:https://visitbrookingssd.com/event/brookings-tourism-ambassador-certification-class/
LOCATION:McCrory Gardens\, 631 22nd Ave\, BROOKINGS\, SD\, 57006\, United States
CATEGORIES:Educational
ATTACH;FMTTYPE=image/png:https://visitbrookingssd.com/wp-content/uploads/2026/03/2026-CTA-Training-graphics-for-event-calendar-and-social.png
END:VEVENT
BEGIN:VEVENT
DTSTART;TZID=America/Chicago:20260422T190000
DTEND;TZID=America/Chicago:20260422T210000
DTSTAMP:20260422T013435
CREATED:20250811T183000Z
LAST-MODIFIED:20250811T183022Z
UID:10015549-1776884400-1776891600@visitbrookingssd.com
SUMMARY:Bingo at VFW
DESCRIPTION:Doors open at 5:00 PM. \nBar opens at 5:00 PM. Cheapest drinks in town! \n$3 sandwiches and $2 desserts are available from 5:30 PM through intermission\, \nBuy bingo cards starting at 6:30 PM. Bingo starts at 7:00 PM. \nA variety of bingo games are played during each evening. Payouts range from $10 to $200! Payouts are split between all good BINGOs during that game.
URL:https://visitbrookingssd.com/event/bingo-at-vfw/2026-04-22/
LOCATION:VFW: George Dokken Post\, 520 Main Avenue\, Brookings\, SD\, 57006
CATEGORIES:Bars & Nightlife,Fundraiser
ATTACH;FMTTYPE=image/jpeg:https://visitbrookingssd.com/wp-content/uploads/2025/08/vfw.jpg
END:VEVENT
END:VCALENDAR