BEGIN:VCALENDAR
VERSION:2.0
PRODID:-//Visit Brookings - ECPv6.15.17.1//NONSGML v1.0//EN
CALSCALE:GREGORIAN
METHOD:PUBLISH
X-WR-CALNAME:Visit Brookings
X-ORIGINAL-URL:https://visitbrookingssd.com
X-WR-CALDESC:Events for Visit Brookings
REFRESH-INTERVAL;VALUE=DURATION:PT1H
X-Robots-Tag:noindex
X-PUBLISHED-TTL:PT1H
BEGIN:VTIMEZONE
TZID:America/Chicago
BEGIN:DAYLIGHT
TZOFFSETFROM:-0600
TZOFFSETTO:-0500
TZNAME:CDT
DTSTART:20250309T080000
END:DAYLIGHT
BEGIN:STANDARD
TZOFFSETFROM:-0500
TZOFFSETTO:-0600
TZNAME:CST
DTSTART:20251102T070000
END:STANDARD
BEGIN:DAYLIGHT
TZOFFSETFROM:-0600
TZOFFSETTO:-0500
TZNAME:CDT
DTSTART:20260308T080000
END:DAYLIGHT
BEGIN:STANDARD
TZOFFSETFROM:-0500
TZOFFSETTO:-0600
TZNAME:CST
DTSTART:20261101T070000
END:STANDARD
BEGIN:DAYLIGHT
TZOFFSETFROM:-0600
TZOFFSETTO:-0500
TZNAME:CDT
DTSTART:20270314T080000
END:DAYLIGHT
BEGIN:STANDARD
TZOFFSETFROM:-0500
TZOFFSETTO:-0600
TZNAME:CST
DTSTART:20271107T070000
END:STANDARD
END:VTIMEZONE
BEGIN:VEVENT
DTSTART;TZID=America/Chicago:20260424T173000
DTEND;TZID=America/Chicago:20260424T223000
DTSTAMP:20260424T025045
CREATED:20260302T140942Z
LAST-MODIFIED:20260302T140942Z
UID:10018780-1777051800-1777069800@visitbrookingssd.com
SUMMARY:Paws for Wine
DESCRIPTION:Brookings Humane Society’s annual Paws for Wine event will be Friday April 24th at the Dascotah Bank Center!\nTickets are available at Brookings Humane or online https://www.brookingshumane.org/paws-for-wine-2025
URL:https://visitbrookingssd.com/event/paws-for-wine-3/
LOCATION:Dacotah Bank Center\, 824 32nd Avenue\, Brookings\, SD\, 57006\, United States
CATEGORIES:Fundraiser
ATTACH;FMTTYPE=image/jpeg:https://visitbrookingssd.com/wp-content/uploads/2026/03/1000010049.jpg
ORGANIZER;CN="Brookings Regional Humane Society":MAILTO:brookingsregionalhumanesociety@hotmail.com
END:VEVENT
BEGIN:VEVENT
DTSTART;TZID=America/Chicago:20260424T190000
DTEND;TZID=America/Chicago:20260424T210000
DTSTAMP:20260424T025045
CREATED:20250811T183000Z
LAST-MODIFIED:20250811T183022Z
UID:10015550-1777057200-1777064400@visitbrookingssd.com
SUMMARY:Bingo at VFW
DESCRIPTION:Doors open at 5:00 PM. \nBar opens at 5:00 PM. Cheapest drinks in town! \n$3 sandwiches and $2 desserts are available from 5:30 PM through intermission\, \nBuy bingo cards starting at 6:30 PM. Bingo starts at 7:00 PM. \nA variety of bingo games are played during each evening. Payouts range from $10 to $200! Payouts are split between all good BINGOs during that game.
URL:https://visitbrookingssd.com/event/bingo-at-vfw/2026-04-24/
LOCATION:VFW: George Dokken Post\, 520 Main Avenue\, Brookings\, SD\, 57006
CATEGORIES:Bars & Nightlife,Fundraiser
ATTACH;FMTTYPE=image/jpeg:https://visitbrookingssd.com/wp-content/uploads/2025/08/vfw.jpg
END:VEVENT
END:VCALENDAR