BEGIN:VCALENDAR
VERSION:2.0
PRODID:-//Visit Brookings - ECPv6.15.17.1//NONSGML v1.0//EN
CALSCALE:GREGORIAN
METHOD:PUBLISH
X-WR-CALNAME:Visit Brookings
X-ORIGINAL-URL:https://visitbrookingssd.com
X-WR-CALDESC:Events for Visit Brookings
REFRESH-INTERVAL;VALUE=DURATION:PT1H
X-Robots-Tag:noindex
X-PUBLISHED-TTL:PT1H
BEGIN:VTIMEZONE
TZID:America/Chicago
BEGIN:DAYLIGHT
TZOFFSETFROM:-0600
TZOFFSETTO:-0500
TZNAME:CDT
DTSTART:20250309T080000
END:DAYLIGHT
BEGIN:STANDARD
TZOFFSETFROM:-0500
TZOFFSETTO:-0600
TZNAME:CST
DTSTART:20251102T070000
END:STANDARD
BEGIN:DAYLIGHT
TZOFFSETFROM:-0600
TZOFFSETTO:-0500
TZNAME:CDT
DTSTART:20260308T080000
END:DAYLIGHT
BEGIN:STANDARD
TZOFFSETFROM:-0500
TZOFFSETTO:-0600
TZNAME:CST
DTSTART:20261101T070000
END:STANDARD
BEGIN:DAYLIGHT
TZOFFSETFROM:-0600
TZOFFSETTO:-0500
TZNAME:CDT
DTSTART:20270314T080000
END:DAYLIGHT
BEGIN:STANDARD
TZOFFSETFROM:-0500
TZOFFSETTO:-0600
TZNAME:CST
DTSTART:20271107T070000
END:STANDARD
END:VTIMEZONE
BEGIN:VEVENT
DTSTART;TZID=America/Chicago:20260711T100000
DTEND;TZID=America/Chicago:20260711T190000
DTSTAMP:20260423T184737
CREATED:20240219T143701Z
LAST-MODIFIED:20240606T201958Z
UID:10006761-1783764000-1783796400@visitbrookingssd.com
SUMMARY:Brookings Summer Arts Festival
DESCRIPTION:Located at Pioneer Park in Brookings\, South Dakota\, the Brookings Summer Arts Festival hosts the state’s premier juried art festival\, boasting 200+ artists across 15 art disciplines. Gourmet and ethnic food booths\, artisanal products\, and historical exhibits enrich the experience along with a lively children’s area and captivating performances on the historic Band Shell complete this vibrant event. \nThe Brookings Summer Arts Festival is the second full weekend in July.
URL:https://visitbrookingssd.com/event/brookings-summer-arts-festival-4/2026-07-11/
LOCATION:Pioneer Park\, 6th Street and First Avenue Brookings\, Brookings\, SD\, 57006\, United States
CATEGORIES:Arts and Crafts,Family Friendly,Free
ATTACH;FMTTYPE=image/jpeg:https://visitbrookingssd.com/wp-content/uploads/2021/01/1.3_Listing_FestivalsPrograms_BrookingsSummerArtsFestival_600x468.jpg
END:VEVENT
BEGIN:VEVENT
DTSTART;TZID=America/Chicago:20260712T100000
DTEND;TZID=America/Chicago:20260712T170000
DTSTAMP:20260423T184737
CREATED:20240219T143701Z
LAST-MODIFIED:20240606T201958Z
UID:10006762-1783850400-1783875600@visitbrookingssd.com
SUMMARY:Brookings Summer Arts Festival
DESCRIPTION:Located at Pioneer Park in Brookings\, South Dakota\, the Brookings Summer Arts Festival hosts the state’s premier juried art festival\, boasting 200+ artists across 15 art disciplines. Gourmet and ethnic food booths\, artisanal products\, and historical exhibits enrich the experience along with a lively children’s area and captivating performances on the historic Band Shell complete this vibrant event. \nThe Brookings Summer Arts Festival is the second full weekend in July.
URL:https://visitbrookingssd.com/event/brookings-summer-arts-festival-4/2026-07-12/
LOCATION:Pioneer Park\, 6th Street and First Avenue Brookings\, Brookings\, SD\, 57006\, United States
CATEGORIES:Arts and Crafts,Family Friendly,Free
ATTACH;FMTTYPE=image/jpeg:https://visitbrookingssd.com/wp-content/uploads/2021/01/1.3_Listing_FestivalsPrograms_BrookingsSummerArtsFestival_600x468.jpg
END:VEVENT
END:VCALENDAR