BEGIN:VCALENDAR
VERSION:2.0
PRODID:-//Visit Brookings - ECPv6.15.17.1//NONSGML v1.0//EN
CALSCALE:GREGORIAN
METHOD:PUBLISH
X-WR-CALNAME:Visit Brookings
X-ORIGINAL-URL:https://visitbrookingssd.com
X-WR-CALDESC:Events for Visit Brookings
REFRESH-INTERVAL;VALUE=DURATION:PT1H
X-Robots-Tag:noindex
X-PUBLISHED-TTL:PT1H
BEGIN:VTIMEZONE
TZID:America/Chicago
BEGIN:DAYLIGHT
TZOFFSETFROM:-0600
TZOFFSETTO:-0500
TZNAME:CDT
DTSTART:20250309T080000
END:DAYLIGHT
BEGIN:STANDARD
TZOFFSETFROM:-0500
TZOFFSETTO:-0600
TZNAME:CST
DTSTART:20251102T070000
END:STANDARD
BEGIN:DAYLIGHT
TZOFFSETFROM:-0600
TZOFFSETTO:-0500
TZNAME:CDT
DTSTART:20260308T080000
END:DAYLIGHT
BEGIN:STANDARD
TZOFFSETFROM:-0500
TZOFFSETTO:-0600
TZNAME:CST
DTSTART:20261101T070000
END:STANDARD
BEGIN:DAYLIGHT
TZOFFSETFROM:-0600
TZOFFSETTO:-0500
TZNAME:CDT
DTSTART:20270314T080000
END:DAYLIGHT
BEGIN:STANDARD
TZOFFSETFROM:-0500
TZOFFSETTO:-0600
TZNAME:CST
DTSTART:20271107T070000
END:STANDARD
END:VTIMEZONE
BEGIN:VEVENT
DTSTART;TZID=America/Chicago:20260530T150000
DTEND;TZID=America/Chicago:20260530T203000
DTSTAMP:20260420T211744
CREATED:20260417T200239Z
LAST-MODIFIED:20260417T202643Z
UID:10018961-1780153200-1780173000@visitbrookingssd.com
SUMMARY:Season Opener Karts/Mowers at University Plains Speedway
DESCRIPTION:Enjoy summer at the race track. The University Plains Speedway offers karts and mower racing just north of Brookings. Races begin at 3pm. (Subject to change).
URL:https://visitbrookingssd.com/event/season-opener-karts-mowers-at-university-plains-speedway/
LOCATION:University Plains Speedway\, 1942 Medary Ave\, Brookings\, SD\, 57006\, United States
CATEGORIES:Entertainment,Family Friendly,Sports
ATTACH;FMTTYPE=image/jpeg:https://visitbrookingssd.com/wp-content/uploads/2026/04/Univ.-Speedway.jpg
END:VEVENT
BEGIN:VEVENT
DTSTART;TZID=America/Chicago:20260606T150000
DTEND;TZID=America/Chicago:20260606T203000
DTSTAMP:20260420T211744
CREATED:20260417T200508Z
LAST-MODIFIED:20260417T202738Z
UID:10018967-1780758000-1780777800@visitbrookingssd.com
SUMMARY:Dustin Duffy Memorial Race & Karts/Mowers
DESCRIPTION:Enjoy summer at the race track. The University Plains Speedway offers karts and mower racing just north of Brookings. Races begin at 3pm. (Subject to change).
URL:https://visitbrookingssd.com/event/dustin-duffy-memorial-race-karts-mowers-at-university-plains-speedway/
LOCATION:University Plains Speedway\, 1942 Medary Ave\, Brookings\, SD\, 57006\, United States
CATEGORIES:Entertainment,Family Friendly,Sports
ATTACH;FMTTYPE=image/jpeg:https://visitbrookingssd.com/wp-content/uploads/2026/04/Univ.-Speedway.jpg
END:VEVENT
BEGIN:VEVENT
DTSTART;TZID=America/Chicago:20260619T150000
DTEND;TZID=America/Chicago:20260619T203000
DTSTAMP:20260420T211744
CREATED:20260417T200622Z
LAST-MODIFIED:20260417T202807Z
UID:10018969-1781881200-1781901000@visitbrookingssd.com
SUMMARY:AJC Mid America Series
DESCRIPTION:Enjoy summer at the race track. The University Plains Speedway offers karts and mower racing just north of Brookings. Races begin at 3pm. (Subject to change).
URL:https://visitbrookingssd.com/event/ajc-mid-america-series-at-university-plains-speedway/2026-06-19/
LOCATION:University Plains Speedway\, 1942 Medary Ave\, Brookings\, SD\, 57006\, United States
CATEGORIES:Entertainment,Family Friendly,Sports
ATTACH;FMTTYPE=image/jpeg:https://visitbrookingssd.com/wp-content/uploads/2026/04/Univ.-Speedway.jpg
END:VEVENT
BEGIN:VEVENT
DTSTART;TZID=America/Chicago:20260620T150000
DTEND;TZID=America/Chicago:20260620T203000
DTSTAMP:20260420T211744
CREATED:20260417T200622Z
LAST-MODIFIED:20260417T202807Z
UID:10018970-1781967600-1781987400@visitbrookingssd.com
SUMMARY:AJC Mid America Series
DESCRIPTION:Enjoy summer at the race track. The University Plains Speedway offers karts and mower racing just north of Brookings. Races begin at 3pm. (Subject to change).
URL:https://visitbrookingssd.com/event/ajc-mid-america-series-at-university-plains-speedway/2026-06-20/
LOCATION:University Plains Speedway\, 1942 Medary Ave\, Brookings\, SD\, 57006\, United States
CATEGORIES:Entertainment,Family Friendly,Sports
ATTACH;FMTTYPE=image/jpeg:https://visitbrookingssd.com/wp-content/uploads/2026/04/Univ.-Speedway.jpg
END:VEVENT
BEGIN:VEVENT
DTSTART;TZID=America/Chicago:20260703T150000
DTEND;TZID=America/Chicago:20260703T203000
DTSTAMP:20260420T211744
CREATED:20260417T200732Z
LAST-MODIFIED:20260417T203553Z
UID:10018971-1783090800-1783110600@visitbrookingssd.com
SUMMARY:Karts/Mowers at University Plains Speedway
DESCRIPTION:Enjoy summer at the race track. The University Plains Speedway offers karts and mower racing just north of Brookings. Races begin at 3pm. (Subject to change). Fireworks to follow!
URL:https://visitbrookingssd.com/event/karts-mowers-at-university-plains-speedway-2/
LOCATION:University Plains Speedway\, 1942 Medary Ave\, Brookings\, SD\, 57006\, United States
CATEGORIES:Entertainment,Family Friendly,Sports
ATTACH;FMTTYPE=image/jpeg:https://visitbrookingssd.com/wp-content/uploads/2026/04/Univ.-Speedway.jpg
END:VEVENT
BEGIN:VEVENT
DTSTART;TZID=America/Chicago:20260704T150000
DTEND;TZID=America/Chicago:20260704T203000
DTSTAMP:20260420T211744
CREATED:20260417T200807Z
LAST-MODIFIED:20260417T203542Z
UID:10018972-1783177200-1783197000@visitbrookingssd.com
SUMMARY:Firecracker Shootout & Karts/Mowers at University Plains Speedway
DESCRIPTION:Enjoy summer at the race track. The University Plains Speedway offers karts and mower racing just north of Brookings. Races begin at 3pm. (Subject to change). Fireworks to follow!
URL:https://visitbrookingssd.com/event/firecracker-shootout-karts-mowers-at-university-plains-speedway/
LOCATION:University Plains Speedway\, 1942 Medary Ave\, Brookings\, SD\, 57006\, United States
CATEGORIES:Entertainment,Family Friendly,Sports
ATTACH;FMTTYPE=image/jpeg:https://visitbrookingssd.com/wp-content/uploads/2026/04/Univ.-Speedway.jpg
END:VEVENT
BEGIN:VEVENT
DTSTART;TZID=America/Chicago:20260724T150000
DTEND;TZID=America/Chicago:20260724T203000
DTSTAMP:20260420T211744
CREATED:20260417T201109Z
LAST-MODIFIED:20260417T202905Z
UID:10018973-1784905200-1784925000@visitbrookingssd.com
SUMMARY:Maxxis Midwest Speedway Nationals
DESCRIPTION:Enjoy summer at the race track. The University Plains Speedway offers karts and mower racing just north of Brookings. Races begin at 3pm. (Subject to change).
URL:https://visitbrookingssd.com/event/maxxis-midwest-speedway-nationals-at-university-plains-speedway/2026-07-24/
LOCATION:University Plains Speedway\, 1942 Medary Ave\, Brookings\, SD\, 57006\, United States
CATEGORIES:Entertainment,Family Friendly,Sports
ATTACH;FMTTYPE=image/jpeg:https://visitbrookingssd.com/wp-content/uploads/2026/04/Univ.-Speedway.jpg
END:VEVENT
BEGIN:VEVENT
DTSTART;TZID=America/Chicago:20260725T150000
DTEND;TZID=America/Chicago:20260725T203000
DTSTAMP:20260420T211744
CREATED:20260417T201109Z
LAST-MODIFIED:20260417T202905Z
UID:10018974-1784991600-1785011400@visitbrookingssd.com
SUMMARY:Maxxis Midwest Speedway Nationals
DESCRIPTION:Enjoy summer at the race track. The University Plains Speedway offers karts and mower racing just north of Brookings. Races begin at 3pm. (Subject to change).
URL:https://visitbrookingssd.com/event/maxxis-midwest-speedway-nationals-at-university-plains-speedway/2026-07-25/
LOCATION:University Plains Speedway\, 1942 Medary Ave\, Brookings\, SD\, 57006\, United States
CATEGORIES:Entertainment,Family Friendly,Sports
ATTACH;FMTTYPE=image/jpeg:https://visitbrookingssd.com/wp-content/uploads/2026/04/Univ.-Speedway.jpg
END:VEVENT
BEGIN:VEVENT
DTSTART;TZID=America/Chicago:20260808T150000
DTEND;TZID=America/Chicago:20260808T203000
DTSTAMP:20260420T211744
CREATED:20260417T201208Z
LAST-MODIFIED:20260417T202922Z
UID:10018975-1786201200-1786221000@visitbrookingssd.com
SUMMARY:Karts/Mowers at University Plains Speedway
DESCRIPTION:Enjoy summer at the race track. The University Plains Speedway offers karts and mower racing just north of Brookings. Races begin at 3pm. (Subject to change).
URL:https://visitbrookingssd.com/event/karts-mowers-at-university-plains-speedway-3/
LOCATION:University Plains Speedway\, 1942 Medary Ave\, Brookings\, SD\, 57006\, United States
CATEGORIES:Entertainment,Family Friendly,Sports
ATTACH;FMTTYPE=image/jpeg:https://visitbrookingssd.com/wp-content/uploads/2026/04/Univ.-Speedway.jpg
END:VEVENT
BEGIN:VEVENT
DTSTART;TZID=America/Chicago:20260822T150000
DTEND;TZID=America/Chicago:20260822T203000
DTSTAMP:20260420T211744
CREATED:20260417T201257Z
LAST-MODIFIED:20260417T202943Z
UID:10018977-1787410800-1787430600@visitbrookingssd.com
SUMMARY:Karts/Mowers at University Plains Speedway
DESCRIPTION:Enjoy summer at the race track. The University Plains Speedway offers karts and mower racing just north of Brookings. Races begin at 3pm. (Subject to change).
URL:https://visitbrookingssd.com/event/karts-mowers-at-university-plains-speedway-4/
LOCATION:University Plains Speedway\, 1942 Medary Ave\, Brookings\, SD\, 57006\, United States
CATEGORIES:Entertainment,Family Friendly,Sports
ATTACH;FMTTYPE=image/jpeg:https://visitbrookingssd.com/wp-content/uploads/2026/04/Univ.-Speedway.jpg
END:VEVENT
BEGIN:VEVENT
DTSTART;TZID=America/Chicago:20260823T150000
DTEND;TZID=America/Chicago:20260823T203000
DTSTAMP:20260420T211744
CREATED:20260417T201340Z
LAST-MODIFIED:20260417T203002Z
UID:10018978-1787497200-1787517000@visitbrookingssd.com
SUMMARY:SD State Championship at University Plains Speedway
DESCRIPTION:Enjoy summer at the race track. The University Plains Speedway offers karts and mower racing just north of Brookings. Races begin at 3pm. (Subject to change).
URL:https://visitbrookingssd.com/event/sd-state-championship-at-university-plains-speedway/
LOCATION:University Plains Speedway\, 1942 Medary Ave\, Brookings\, SD\, 57006\, United States
CATEGORIES:Entertainment,Family Friendly,Sports
ATTACH;FMTTYPE=image/jpeg:https://visitbrookingssd.com/wp-content/uploads/2026/04/Univ.-Speedway.jpg
END:VEVENT
BEGIN:VEVENT
DTSTART;TZID=America/Chicago:20260919T150000
DTEND;TZID=America/Chicago:20260919T203000
DTSTAMP:20260420T211744
CREATED:20260417T201639Z
LAST-MODIFIED:20260417T203019Z
UID:10018980-1789830000-1789849800@visitbrookingssd.com
SUMMARY:Lowell Wulff Memorial & Season Championship Night
DESCRIPTION:Enjoy summer at the race track. The University Plains Speedway offers karts and mower racing just north of Brookings. Races begin at 3pm. (Subject to change).
URL:https://visitbrookingssd.com/event/lowell-wulff-memorial-season-championship-night-at-university-plains-speedway-2/
LOCATION:University Plains Speedway\, 1942 Medary Ave\, Brookings\, SD\, 57006\, United States
CATEGORIES:Entertainment,Family Friendly,Sports
ATTACH;FMTTYPE=image/jpeg:https://visitbrookingssd.com/wp-content/uploads/2026/04/Univ.-Speedway.jpg
END:VEVENT
BEGIN:VEVENT
DTSTART;TZID=America/Chicago:20261003T150000
DTEND;TZID=America/Chicago:20261003T203000
DTSTAMP:20260420T211744
CREATED:20260417T201425Z
LAST-MODIFIED:20260417T203041Z
UID:10018979-1791039600-1791059400@visitbrookingssd.com
SUMMARY:4th Annual Scarecrow Shootout & Karts/Mowers
DESCRIPTION:Enjoy summer at the race track. The University Plains Speedway offers karts and mower racing just north of Brookings. Races begin at 3pm. (Subject to change).
URL:https://visitbrookingssd.com/event/lowell-wulff-memorial-season-championship-night-at-university-plains-speedway/
LOCATION:University Plains Speedway\, 1942 Medary Ave\, Brookings\, SD\, 57006\, United States
CATEGORIES:Entertainment,Family Friendly,Sports
ATTACH;FMTTYPE=image/jpeg:https://visitbrookingssd.com/wp-content/uploads/2026/04/Univ.-Speedway.jpg
END:VEVENT
END:VCALENDAR